BEGIN:VCALENDAR
VERSION:2.0
CALSCALE:GREGORIAN
PRODID:-//Diputació de Barcelona//DibaCMS//EN
BEGIN:VEVENT
UID:3367
DTSTAMP:20260423T145356
DTSTART:20221014T210000
DTEND:20221014T230000
SUMMARY:CINECLUB - AMARCORD
LOCATION:Av. Catalunya, 9-11 08787 La Pobla de Claramunt
METHOD:PUBLISH
X-WR-CALNAME:claramunt@lapobladeclaramunt.cat
X-WR-TIMEZONE:Europe/Madrid
DESCRIPTION:
URI:https://www.lapobladeclaramunt.cat/actualitat/agenda/cineclub-amarcord.html
CLASS:PUBLIC
END:VEVENT
END:VCALENDAR
