BEGIN:VCALENDAR
VERSION:2.0
CALSCALE:GREGORIAN
PRODID:-//Diputació de Barcelona//DibaCMS//EN
BEGIN:VEVENT
UID:3364
DTSTAMP:20260423T145318
DTSTART:20220924T200000
DTEND:20220924T220000
SUMMARY:Ball de nit - Ballaveu
LOCATION:Can Solà 
METHOD:PUBLISH
X-WR-CALNAME:claramunt@lapobladeclaramunt.cat
X-WR-TIMEZONE:Europe/Madrid
DESCRIPTION:
URI:https://www.lapobladeclaramunt.cat/actualitat/agenda/ball-de-nit-ballaveu.html
CLASS:PUBLIC
END:VEVENT
END:VCALENDAR
