BEGIN:VCALENDAR
VERSION:2.0
CALSCALE:GREGORIAN
PRODID:-//Diputació de Barcelona//DibaCMS//EN
BEGIN:VEVENT
UID:3336
DTSTAMP:20260423T120526
DTSTART:20220601T090000
DTEND:20220601T120000
SUMMARY:Setmana de la Gent Gran 2022 - Caminada
LOCATION:Sortida de la Plaça de l'Ajuntament 
METHOD:PUBLISH
X-WR-CALNAME:claramunt@lapobladeclaramunt.cat
X-WR-TIMEZONE:Europe/Madrid
DESCRIPTION:
URI:https://www.lapobladeclaramunt.cat/actualitat/agenda/setmana-de-la-gent-gran-2022-caminada.html
CLASS:PUBLIC
END:VEVENT
END:VCALENDAR
