BEGIN:VCALENDAR
VERSION:2.0
CALSCALE:GREGORIAN
PRODID:-//Diputació de Barcelona//DibaCMS//EN
BEGIN:VEVENT
UID:3335
DTSTAMP:20260423T145248
DTSTART:20220531T180000
DTEND:20220531T200000
SUMMARY:Setmana de la Gent Gran 2022 - Bingo amb berenar
LOCATION:Plaça de l'Ajuntament 
METHOD:PUBLISH
X-WR-CALNAME:claramunt@lapobladeclaramunt.cat
X-WR-TIMEZONE:Europe/Madrid
DESCRIPTION:
URI:https://www.lapobladeclaramunt.cat/actualitat/agenda/setmana-de-la-gent-gran-2022-bingo-amb-berenar.html
CLASS:PUBLIC
END:VEVENT
END:VCALENDAR
