BEGIN:VCALENDAR
VERSION:2.0
CALSCALE:GREGORIAN
PRODID:-//Diputació de Barcelona//DibaCMS//EN
BEGIN:VEVENT
UID:3320
DTSTAMP:20260423T132937
DTSTART:20220506T190000
DTEND:20220506T200000
SUMMARY:JOAN-LLUÍS LLUÍS "JUNIL A LA TERRA DELS BÀRBARS" 
LOCATION:Av. Catalunya, 9  08787 La Pobla de Claramunt
METHOD:PUBLISH
X-WR-CALNAME:claramunt@lapobladeclaramunt.cat
X-WR-TIMEZONE:Europe/Madrid
DESCRIPTION:JOAN-LLUÍS LLUÍS "JUNIL A LA TERRA DELS BÀRBARS"
PREMI ÒMNIUM CULTURAL 2021
Presentació del llibre amb l'autor

URI:https://www.lapobladeclaramunt.cat/actualitat/agenda/joan-lluis-lluis-junil-a-la-terra-dels-barbars-.html
CLASS:PUBLIC
END:VEVENT
END:VCALENDAR
