BEGIN:VCALENDAR
VERSION:2.0
CALSCALE:GREGORIAN
PRODID:-//Diputació de Barcelona//DibaCMS//EN
BEGIN:VEVENT
UID:3291
DTSTAMP:20260423T120602
DTSTART:20220217T190000
DTEND:20220217T200000
SUMMARY:Cicle de conferències km.0
LOCATION:Av. Catalunya, 9-11 08787 La Pobla de Claramunt
METHOD:PUBLISH
X-WR-CALNAME:claramunt@lapobladeclaramunt.cat
X-WR-TIMEZONE:Europe/Madrid
DESCRIPTION:Conferència de Xavier Medina  “FALSIFICACIÓ DE BITLLETS DEL BANC DE FRANÇA A LA POBLA DE CLARAMUNT”

URI:https://www.lapobladeclaramunt.cat/actualitat/agenda/cicle-de-conferencies-km0.html
CLASS:PUBLIC
END:VEVENT
END:VCALENDAR
