BEGIN:VCALENDAR
VERSION:2.0
CALSCALE:GREGORIAN
PRODID:-//Diputació de Barcelona//DibaCMS//EN
BEGIN:VEVENT
UID:3288
DTSTAMP:20260423T204045
DTSTART:20220529T183000
DTEND:20220529T203000
SUMMARY:Maleïts Bessons - Teatre del Temps
LOCATION:
METHOD:PUBLISH
X-WR-CALNAME:claramunt@lapobladeclaramunt.cat
X-WR-TIMEZONE:Europe/Madrid
DESCRIPTION:
URI:https://www.lapobladeclaramunt.cat/actualitat/agenda/maleits-bessons-teatre-del-temps.html
CLASS:PUBLIC
END:VEVENT
END:VCALENDAR
