BEGIN:VCALENDAR
VERSION:2.0
CALSCALE:GREGORIAN
PRODID:-//Diputació de Barcelona//DibaCMS//EN
BEGIN:VEVENT
UID:3287
DTSTAMP:20260423T191937
DTSTART:20220424T183000
DTEND:20220424T203000
SUMMARY:La vie en rose - Cia. Mar Gómez
LOCATION:Av. Catalunya, 9-11 08787 La Pobla de Claramunt
METHOD:PUBLISH
X-WR-CALNAME:claramunt@lapobladeclaramunt.cat
X-WR-TIMEZONE:Europe/Madrid
DESCRIPTION:
URI:https://www.lapobladeclaramunt.cat/actualitat/agenda/la-vie-en-rose-cia-mar-gomez.html
CLASS:PUBLIC
END:VEVENT
END:VCALENDAR
