BEGIN:VCALENDAR
VERSION:2.0
CALSCALE:GREGORIAN
PRODID:-//Diputació de Barcelona//DibaCMS//EN
BEGIN:VEVENT
UID:3285
DTSTAMP:20260423T115854
DTSTART:20220227T183000
DTEND:20220227T203000
SUMMARY:Molotov, Vida i mort de Cipriano Martos Jiménez militant antifranquista - T-Atraco
LOCATION:Av. Catalunya, 9-11 08787 La Pobla de Claramunt
METHOD:PUBLISH
X-WR-CALNAME:claramunt@lapobladeclaramunt.cat
X-WR-TIMEZONE:Europe/Madrid
DESCRIPTION:
URI:https://www.lapobladeclaramunt.cat/actualitat/agenda/molotov-vida-i-mort-de-cipriano-martos-jimenez-militant-antifranquista-t-atraco.html
CLASS:PUBLIC
END:VEVENT
END:VCALENDAR
