BEGIN:VCALENDAR
VERSION:2.0
CALSCALE:GREGORIAN
PRODID:-//Diputació de Barcelona//DibaCMS//EN
BEGIN:VEVENT
UID:3281
DTSTAMP:20260423T131722
DTSTART:20220313T120000
DTEND:20220313T140000
SUMMARY:PARQUE MÁGICO
LOCATION:Av. Catalunya, 9-11 08787 La Pobla de Claramunt
METHOD:PUBLISH
X-WR-CALNAME:claramunt@lapobladeclaramunt.cat
X-WR-TIMEZONE:Europe/Madrid
DESCRIPTION:
URI:https://www.lapobladeclaramunt.cat/actualitat/agenda/parque-magico.html
CLASS:PUBLIC
END:VEVENT
END:VCALENDAR
