BEGIN:VCALENDAR
VERSION:2.0
CALSCALE:GREGORIAN
PRODID:-//Diputació de Barcelona//DibaCMS//EN
BEGIN:VEVENT
UID:3278
DTSTAMP:20260423T145503
DTSTART:20220112T173000
DTEND:20220123T133000
SUMMARY:Exposició Natalia Dubovik
LOCATION:Av. Catalunya, 16 (edifici de l’Ajuntament)  08787 La Pobla de Claramunt
METHOD:PUBLISH
X-WR-CALNAME:claramunt@lapobladeclaramunt.cat
X-WR-TIMEZONE:Europe/Madrid
DESCRIPTION:
URI:https://www.lapobladeclaramunt.cat/actualitat/agenda/exposicio-natalia-dubovik.html
CLASS:PUBLIC
END:VEVENT
END:VCALENDAR
