BEGIN:VCALENDAR
VERSION:2.0
CALSCALE:GREGORIAN
PRODID:-//Diputació de Barcelona//DibaCMS//EN
BEGIN:VEVENT
UID:3272
DTSTAMP:20260423T120635
DTSTART:20211225T120000
DTEND:20211225T140000
SUMMARY:50è aniversari Copa de Nadal 
LOCATION:
METHOD:PUBLISH
X-WR-CALNAME:claramunt@lapobladeclaramunt.cat
X-WR-TIMEZONE:Europe/Madrid
DESCRIPTION:
URI:https://www.lapobladeclaramunt.cat/actualitat/agenda/50e-aniversari-copa-de-nadal-.html
CLASS:PUBLIC
END:VEVENT
END:VCALENDAR
