BEGIN:VCALENDAR
VERSION:2.0
CALSCALE:GREGORIAN
PRODID:-//Diputació de Barcelona//DibaCMS//EN
BEGIN:VEVENT
UID:3269
DTSTAMP:20260423T145431
DTSTART:20211219T090000
DTEND:20211219T130000
SUMMARY:Mou-te per la salut mental - CAMINADA POPULAR "LA RUTA DE LES 7 FONTS"
LOCATION:
METHOD:PUBLISH
X-WR-CALNAME:claramunt@lapobladeclaramunt.cat
X-WR-TIMEZONE:Europe/Madrid
DESCRIPTION:
URI:https://www.lapobladeclaramunt.cat/actualitat/agenda/mou-te-per-la-salut-mental-caminada-popular-la-ruta-de-les-7-fonts.html
CLASS:PUBLIC
END:VEVENT
END:VCALENDAR
