BEGIN:VCALENDAR
VERSION:2.0
CALSCALE:GREGORIAN
PRODID:-//Diputació de Barcelona//DibaCMS//EN
BEGIN:VEVENT
UID:3268
DTSTAMP:20260423T120709
DTSTART:20211216T190000
DTEND:20211216T210000
SUMMARY:Mou-te per la salut mental - XERRADA SOBRE SALUT MENTAL
LOCATION:Av. Catalunya, 9-11 08787 La Pobla de Claramunt
METHOD:PUBLISH
X-WR-CALNAME:claramunt@lapobladeclaramunt.cat
X-WR-TIMEZONE:Europe/Madrid
DESCRIPTION:
URI:https://www.lapobladeclaramunt.cat/actualitat/agenda/mou-te-per-la-salut-mental-xerrada-sobre-salut-mental.html
CLASS:PUBLIC
END:VEVENT
END:VCALENDAR
