BEGIN:VCALENDAR
VERSION:2.0
CALSCALE:GREGORIAN
PRODID:-//Diputació de Barcelona//DibaCMS//EN
BEGIN:VEVENT
UID:3261
DTSTAMP:20260423T120451
DTSTART:20211130T180000
DTEND:20211130T200000
SUMMARY:Activitats 25N - Dimarts 30 Novembre 
LOCATION:Plaça de la Vila, 1 08787 La Pobla de Claramunt
METHOD:PUBLISH
X-WR-CALNAME:claramunt@lapobladeclaramunt.cat
X-WR-TIMEZONE:Europe/Madrid
DESCRIPTION:
URI:https://www.lapobladeclaramunt.cat/actualitat/agenda/activitats-25n-dimarts-30-novembre-.html
CLASS:PUBLIC
END:VEVENT
END:VCALENDAR
