BEGIN:VCALENDAR
VERSION:2.0
CALSCALE:GREGORIAN
PRODID:-//Diputació de Barcelona//DibaCMS//EN
BEGIN:VEVENT
UID:3257
DTSTAMP:20260423T142344
DTSTART:20211119T173000
DTEND:20211119T200000
SUMMARY:Activitats 25N - Divendres 19 Novembre
LOCATION:Plaça de la Vila, 1 08787 La Pobla de Claramunt
METHOD:PUBLISH
X-WR-CALNAME:claramunt@lapobladeclaramunt.cat
X-WR-TIMEZONE:Europe/Madrid
DESCRIPTION:
URI:https://www.lapobladeclaramunt.cat/actualitat/agenda/activitats-25n-divendres-19-novembre.html
CLASS:PUBLIC
END:VEVENT
END:VCALENDAR
