BEGIN:VCALENDAR
VERSION:2.0
CALSCALE:GREGORIAN
PRODID:-//Diputació de Barcelona//DibaCMS//EN
BEGIN:VEVENT
UID:3253
DTSTAMP:20260423T233439
DTSTART:20211118T180000
DTEND:20211118T200000
SUMMARY:Activitats 25N - Dijous 18 Novembre
LOCATION:
METHOD:PUBLISH
X-WR-CALNAME:claramunt@lapobladeclaramunt.cat
X-WR-TIMEZONE:Europe/Madrid
DESCRIPTION:
URI:https://www.lapobladeclaramunt.cat/actualitat/agenda/activitats-25n-dijous-18-novembre.html
CLASS:PUBLIC
END:VEVENT
END:VCALENDAR
