BEGIN:VCALENDAR
VERSION:2.0
CALSCALE:GREGORIAN
PRODID:-//Diputació de Barcelona//DibaCMS//EN
BEGIN:VEVENT
UID:3240
DTSTAMP:20260423T143647
DTSTART:20211004T090000
DTEND:20211004T110000
SUMMARY:Setmana europea de l'Esport 2021 - Educació física per a la Gent Gran
LOCATION:Plaça de l'Ajuntament (en cas de pluja l'Ateneu Gumersind Bisbal) 
METHOD:PUBLISH
X-WR-CALNAME:claramunt@lapobladeclaramunt.cat
X-WR-TIMEZONE:Europe/Madrid
DESCRIPTION:
URI:https://www.lapobladeclaramunt.cat/actualitat/agenda/setmana-europea-de-lesport-2021-educacio-fisica-per-a-la-gent-gran.html
CLASS:PUBLIC
END:VEVENT
END:VCALENDAR
