BEGIN:VCALENDAR
VERSION:2.0
CALSCALE:GREGORIAN
PRODID:-//Diputació de Barcelona//DibaCMS//EN
BEGIN:VEVENT
UID:3239
DTSTAMP:20260423T161800
DTSTART:20210923T173000
DTEND:20210923T193000
SUMMARY:Setmana europea de l'Esport 2021 - Iniciació al Tenis
LOCATION:Passeig Aguilera, s/n (Zona Esportiva Municipal) 08787  La Pobla de Claramunt
METHOD:PUBLISH
X-WR-CALNAME:claramunt@lapobladeclaramunt.cat
X-WR-TIMEZONE:Europe/Madrid
DESCRIPTION:
URI:https://www.lapobladeclaramunt.cat/actualitat/agenda/setmana-europea-de-lesport-2021-iniciacio-al-tenis.html
CLASS:PUBLIC
END:VEVENT
END:VCALENDAR
