BEGIN:VCALENDAR
VERSION:2.0
CALSCALE:GREGORIAN
PRODID:-//Diputació de Barcelona//DibaCMS//EN
BEGIN:VEVENT
UID:3234
DTSTAMP:20260423T161916
DTSTART:20210919T083000
DTEND:20210919T140000
SUMMARY:Caminada contra el càncer
LOCATION:Sortida i arribada desde la Pl. de l’Ajuntament 
METHOD:PUBLISH
X-WR-CALNAME:claramunt@lapobladeclaramunt.cat
X-WR-TIMEZONE:Europe/Madrid
DESCRIPTION:
URI:https://www.lapobladeclaramunt.cat/actualitat/agenda/caminada-contra-el-cancer.html
CLASS:PUBLIC
END:VEVENT
END:VCALENDAR
