BEGIN:VCALENDAR
VERSION:2.0
CALSCALE:GREGORIAN
PRODID:-//Diputació de Barcelona//DibaCMS//EN
BEGIN:VEVENT
UID:3199
DTSTAMP:20260423T132907
DTSTART:20210703T000000
DTEND:20210703T235900
SUMMARY:Actes Festa Major 2021 - 3 de juliol
LOCATION:
METHOD:PUBLISH
X-WR-CALNAME:claramunt@lapobladeclaramunt.cat
X-WR-TIMEZONE:Europe/Madrid
DESCRIPTION:
URI:https://www.lapobladeclaramunt.cat/actualitat/agenda/actes-festa-major-2021-3-de-juliol.html
CLASS:PUBLIC
END:VEVENT
END:VCALENDAR
