BEGIN:VCALENDAR
VERSION:2.0
CALSCALE:GREGORIAN
PRODID:-//Diputació de Barcelona//DibaCMS//EN
BEGIN:VEVENT
UID:3195
DTSTAMP:20260423T222224
DTSTART:20210629T000000
DTEND:20210629T235900
SUMMARY:Actes Festa Major 2021 - 29 de juny
LOCATION:
METHOD:PUBLISH
X-WR-CALNAME:claramunt@lapobladeclaramunt.cat
X-WR-TIMEZONE:Europe/Madrid
DESCRIPTION:
URI:https://www.lapobladeclaramunt.cat/actualitat/agenda/actes-festa-major-2021-29-de-juny.html
CLASS:PUBLIC
END:VEVENT
END:VCALENDAR
