BEGIN:VCALENDAR
VERSION:2.0
CALSCALE:GREGORIAN
PRODID:-//Diputació de Barcelona//DibaCMS//EN
BEGIN:VEVENT
UID:3165
DTSTAMP:20260423T210745
DTSTART:20210604T193000
DTEND:20210604T213000
SUMMARY:Mayte Carreras - Monòleg
LOCATION:Av. Catalunya, 9-11 08787 La Pobla de Claramunt
METHOD:PUBLISH
X-WR-CALNAME:claramunt@lapobladeclaramunt.cat
X-WR-TIMEZONE:Europe/Madrid
DESCRIPTION:
URI:https://www.lapobladeclaramunt.cat/actualitat/agenda/mayte-carreras-monoleg.html
CLASS:PUBLIC
END:VEVENT
END:VCALENDAR
