BEGIN:VCALENDAR
VERSION:2.0
CALSCALE:GREGORIAN
PRODID:-//Diputació de Barcelona//DibaCMS//EN
BEGIN:VEVENT
UID:3163
DTSTAMP:20260423T162754
DTSTART:20210520T190000
DTEND:20210520T200000
SUMMARY:Presentació del llibre "Igualada, República, Guerra Civil i Postguerra" de l'autor Jep Rabell 
LOCATION:Av. Catalunya, 9-11 08787 La Pobla de Claramunt
METHOD:PUBLISH
X-WR-CALNAME:claramunt@lapobladeclaramunt.cat
X-WR-TIMEZONE:Europe/Madrid
DESCRIPTION:
URI:https://www.lapobladeclaramunt.cat/actualitat/agenda/presentacio-del-llibre-igualada-republica-guerra-civil-i-postguerra-de-lautor-jep-rabell-.html
CLASS:PUBLIC
END:VEVENT
END:VCALENDAR
