BEGIN:VCALENDAR
VERSION:2.0
CALSCALE:GREGORIAN
PRODID:-//Diputació de Barcelona//DibaCMS//EN
BEGIN:VEVENT
UID:3138
DTSTAMP:20260423T220551
DTSTART:20210619T220000
DTEND:20210619T233000
SUMMARY:Onward
LOCATION:Plaça dels Països Catalans - 08787 La Pobla de Claramunt - Barcelona (Catalunya) 
METHOD:PUBLISH
X-WR-CALNAME:claramunt@lapobladeclaramunt.cat
X-WR-TIMEZONE:Europe/Madrid
DESCRIPTION:
URI:https://www.lapobladeclaramunt.cat/actualitat/agenda/onward.html
CLASS:PUBLIC
END:VEVENT
END:VCALENDAR
