BEGIN:VCALENDAR
VERSION:2.0
CALSCALE:GREGORIAN
PRODID:-//Diputació de Barcelona//DibaCMS//EN
BEGIN:VEVENT
UID:3136
DTSTAMP:20260423T172928
DTSTART:20210425T183000
DTEND:20210425T203000
SUMMARY:Jojo Rabbit
LOCATION:Av. Catalunya, 9-11 08787 La Pobla de Claramunt
METHOD:PUBLISH
X-WR-CALNAME:claramunt@lapobladeclaramunt.cat
X-WR-TIMEZONE:Europe/Madrid
DESCRIPTION:
URI:https://www.lapobladeclaramunt.cat/actualitat/agenda/jojo-rabbit.html
CLASS:PUBLIC
END:VEVENT
END:VCALENDAR
